BEGIN:VCALENDAR
VERSION:2.0
PRODID:-//Astrological Lodge of London - ECPv6.15.16//NONSGML v1.0//EN
CALSCALE:GREGORIAN
METHOD:PUBLISH
X-WR-CALNAME:Astrological Lodge of London
X-ORIGINAL-URL:https://astrolodge.co.uk
X-WR-CALDESC:Events for Astrological Lodge of London
REFRESH-INTERVAL;VALUE=DURATION:PT1H
X-Robots-Tag:noindex
X-PUBLISHED-TTL:PT1H
BEGIN:VTIMEZONE
TZID:Europe/London
BEGIN:DAYLIGHT
TZOFFSETFROM:+0000
TZOFFSETTO:+0100
TZNAME:BST
DTSTART:20240331T010000
END:DAYLIGHT
BEGIN:STANDARD
TZOFFSETFROM:+0100
TZOFFSETTO:+0000
TZNAME:GMT
DTSTART:20241027T010000
END:STANDARD
BEGIN:DAYLIGHT
TZOFFSETFROM:+0000
TZOFFSETTO:+0100
TZNAME:BST
DTSTART:20250330T010000
END:DAYLIGHT
BEGIN:STANDARD
TZOFFSETFROM:+0100
TZOFFSETTO:+0000
TZNAME:GMT
DTSTART:20251026T010000
END:STANDARD
BEGIN:DAYLIGHT
TZOFFSETFROM:+0000
TZOFFSETTO:+0100
TZNAME:BST
DTSTART:20260329T010000
END:DAYLIGHT
BEGIN:STANDARD
TZOFFSETFROM:+0100
TZOFFSETTO:+0000
TZNAME:GMT
DTSTART:20261025T010000
END:STANDARD
END:VTIMEZONE
BEGIN:VEVENT
DTSTART;TZID=Europe/London:20250915T190000
DTEND;TZID=Europe/London:20250915T200000
DTSTAMP:20260425T210646
CREATED:20250430T194400Z
LAST-MODIFIED:20250430T204634Z
UID:10000112-1757962800-1757966400@astrolodge.co.uk
SUMMARY:Week 3: The Saturn\, Neptune and Pluto Asteroid Families
DESCRIPTION:19:00  Asteroids in Astrology: Week 3 \n\n\n\nSaturn had a wife names Ops. His daughter was Vesta. Neptune had a wife called Salacia. Pluto had a wife whose name was Proserpina\, and her mother was Ceres – a formidable mother-in-law. Until you understand these asteroids\, you don’t fully understand these planets! \n\n\n\n\n\n\n\n\n\nJessica AdamsJessica Adams BA is the author of the #1 bestseller Your Birthday (Hachette) with Rachel Wells and is a consultant on The Aries Billionaire (Audible UK).
URL:https://astrolodge.co.uk/event/week-3-the-saturn-neptune-and-pluto-asteroid-families/
CATEGORIES:In-Depth Workshop
ATTACH;FMTTYPE=image/png:https://astrolodge.co.uk/wp-content/uploads/2025/04/Untitled-19.png
LOCATION:https://astrolodge.co.uk/event/week-3-the-saturn-neptune-and-pluto-asteroid-families/
END:VEVENT
END:VCALENDAR