BEGIN:VCALENDAR
VERSION:2.0
PRODID:-//Astrological Lodge of London - ECPv6.15.16//NONSGML v1.0//EN
CALSCALE:GREGORIAN
METHOD:PUBLISH
X-ORIGINAL-URL:https://astrolodge.co.uk
X-WR-CALDESC:Events for Astrological Lodge of London
REFRESH-INTERVAL;VALUE=DURATION:PT1H
X-Robots-Tag:noindex
X-PUBLISHED-TTL:PT1H
BEGIN:VTIMEZONE
TZID:Europe/London
BEGIN:DAYLIGHT
TZOFFSETFROM:+0000
TZOFFSETTO:+0100
TZNAME:BST
DTSTART:20240331T010000
END:DAYLIGHT
BEGIN:STANDARD
TZOFFSETFROM:+0100
TZOFFSETTO:+0000
TZNAME:GMT
DTSTART:20241027T010000
END:STANDARD
BEGIN:DAYLIGHT
TZOFFSETFROM:+0000
TZOFFSETTO:+0100
TZNAME:BST
DTSTART:20250330T010000
END:DAYLIGHT
BEGIN:STANDARD
TZOFFSETFROM:+0100
TZOFFSETTO:+0000
TZNAME:GMT
DTSTART:20251026T010000
END:STANDARD
BEGIN:DAYLIGHT
TZOFFSETFROM:+0000
TZOFFSETTO:+0100
TZNAME:BST
DTSTART:20260329T010000
END:DAYLIGHT
BEGIN:STANDARD
TZOFFSETFROM:+0100
TZOFFSETTO:+0000
TZNAME:GMT
DTSTART:20261025T010000
END:STANDARD
END:VTIMEZONE
BEGIN:VEVENT
DTSTART;TZID=Europe/London:20250908T190000
DTEND;TZID=Europe/London:20250908T200000
DTSTAMP:20260425T210714
CREATED:20250430T194911Z
LAST-MODIFIED:20250430T204620Z
UID:10000111-1757358000-1757361600@astrolodge.co.uk
SUMMARY:Week 2: The Jupiter Family Tree of Asteroids
DESCRIPTION:19:00  Asteroids in Astrology: Week 2 \n\n\n\nJupiter has the biggest family of asteroids in astrology. His wife was Juno\, daughters were Fortuna\, Minerva\, and Diana\, and his sons\, Apollo and Bacchus. Then there is Jupiter’s grandson\, Aesculapius\, and great-granddaughters\, Hygiea and Panacea. They are all good news – family members with benefits. \n\n\n\n\n\n\n\n\n\nJessica AdamsJessica Adams BA is the author of the #1 bestseller Your Birthday (Hachette) with Rachel Wells and is a consultant on The Aries Billionaire (Audible UK).
URL:https://astrolodge.co.uk/event/week-2-the-jupiter-family-tree-of-asteroids/
CATEGORIES:In-Depth Workshop
ATTACH;FMTTYPE=image/png:https://astrolodge.co.uk/wp-content/uploads/2025/04/Untitled-20.png
LOCATION:https://astrolodge.co.uk/event/week-2-the-jupiter-family-tree-of-asteroids/
END:VEVENT
END:VCALENDAR