BEGIN:VCALENDAR
VERSION:2.0
PRODID:-//Astrological Lodge of London - ECPv6.15.16//NONSGML v1.0//EN
CALSCALE:GREGORIAN
METHOD:PUBLISH
X-ORIGINAL-URL:https://astrolodge.co.uk
X-WR-CALDESC:Events for Astrological Lodge of London
REFRESH-INTERVAL;VALUE=DURATION:PT1H
X-Robots-Tag:noindex
X-PUBLISHED-TTL:PT1H
BEGIN:VTIMEZONE
TZID:Europe/London
BEGIN:DAYLIGHT
TZOFFSETFROM:+0000
TZOFFSETTO:+0100
TZNAME:BST
DTSTART:20240331T010000
END:DAYLIGHT
BEGIN:STANDARD
TZOFFSETFROM:+0100
TZOFFSETTO:+0000
TZNAME:GMT
DTSTART:20241027T010000
END:STANDARD
BEGIN:DAYLIGHT
TZOFFSETFROM:+0000
TZOFFSETTO:+0100
TZNAME:BST
DTSTART:20250330T010000
END:DAYLIGHT
BEGIN:STANDARD
TZOFFSETFROM:+0100
TZOFFSETTO:+0000
TZNAME:GMT
DTSTART:20251026T010000
END:STANDARD
BEGIN:DAYLIGHT
TZOFFSETFROM:+0000
TZOFFSETTO:+0100
TZNAME:BST
DTSTART:20260329T010000
END:DAYLIGHT
BEGIN:STANDARD
TZOFFSETFROM:+0100
TZOFFSETTO:+0000
TZNAME:GMT
DTSTART:20261025T010000
END:STANDARD
END:VTIMEZONE
BEGIN:VEVENT
DTSTART;TZID=Europe/London:20250609T170000
DTEND;TZID=Europe/London:20250609T180000
DTSTAMP:20260423T104824
CREATED:20250412T164509Z
LAST-MODIFIED:20250509T090543Z
UID:10000095-1749488400-1749492000@astrolodge.co.uk
SUMMARY:Week 5 - The Houses (Part 1)
DESCRIPTION:Learn about the twelve astrological houses and their significance. \n\n\n\nThe fifth class will introduce the meaning of houses\, what areas of life they govern\, and how planets and signs within houses influence an individual’s life.
URL:https://astrolodge.co.uk/event/week-5-the-houses-part-1/
CATEGORIES:Free Astrology Classes
ATTACH;FMTTYPE=image/png:https://astrolodge.co.uk/wp-content/uploads/2024/07/memphis-style-conceptual-interior-room-2023-11-27-04-50-17-utc-1-1-NJtRRO.tmp_.png
LOCATION:https://zoom.us/j/97318678616
END:VEVENT
BEGIN:VEVENT
DTSTART;TZID=Europe/London:20250616T170000
DTEND;TZID=Europe/London:20250616T180000
DTSTAMP:20260423T104824
CREATED:20250412T164609Z
LAST-MODIFIED:20250509T090642Z
UID:10000096-1750093200-1750096800@astrolodge.co.uk
SUMMARY:Week 6 - The Houses (Part 2)
DESCRIPTION:Continue to learn about the twelve astrological houses and their significance. \n\n\n\nThe sixth class will continue the meaning of the houses\, what areas of life they govern\, and how planets and signs within houses influence an individual’s life.
URL:https://astrolodge.co.uk/event/week-6-the-houses-part-2-2/
CATEGORIES:Free Astrology Classes
ATTACH;FMTTYPE=image/png:https://astrolodge.co.uk/wp-content/uploads/2024/07/memphis-style-conceptual-interior-room-2023-11-27-04-50-17-utc-1-1-NJtRRO.tmp_.png
LOCATION:https://zoom.us/j/96464864028
END:VEVENT
BEGIN:VEVENT
DTSTART;TZID=Europe/London:20250630T170000
DTEND;TZID=Europe/London:20250630T180000
DTSTAMP:20260423T104824
CREATED:20250412T164739Z
LAST-MODIFIED:20250509T090745Z
UID:10000097-1751302800-1751306400@astrolodge.co.uk
SUMMARY:Week 7 - The Lunar Nodes
DESCRIPTION:Understand the significance of the North Node and South Node in the natal chart. \n\n\n\nThe seventh class will comprise of discussion on the implications of the lunar nodes\, their influence on life lessons\, and spiritual growth.
URL:https://astrolodge.co.uk/event/week-7-the-lunar-nodes-3/
CATEGORIES:Free Astrology Classes
ATTACH;FMTTYPE=image/jpeg:https://astrolodge.co.uk/wp-content/uploads/2024/07/IMG_1751-5s6Ghs.tmp_.jpg
LOCATION:https://zoom.us/j/94102121345
END:VEVENT
END:VCALENDAR