BEGIN:VCALENDAR
VERSION:2.0
PRODID:-//Astrological Lodge of London - ECPv6.15.16//NONSGML v1.0//EN
CALSCALE:GREGORIAN
METHOD:PUBLISH
X-ORIGINAL-URL:https://astrolodge.co.uk
X-WR-CALDESC:Events for Astrological Lodge of London
REFRESH-INTERVAL;VALUE=DURATION:PT1H
X-Robots-Tag:noindex
X-PUBLISHED-TTL:PT1H
BEGIN:VTIMEZONE
TZID:Europe/London
BEGIN:DAYLIGHT
TZOFFSETFROM:+0000
TZOFFSETTO:+0100
TZNAME:BST
DTSTART:20230326T010000
END:DAYLIGHT
BEGIN:STANDARD
TZOFFSETFROM:+0100
TZOFFSETTO:+0000
TZNAME:GMT
DTSTART:20231029T010000
END:STANDARD
BEGIN:DAYLIGHT
TZOFFSETFROM:+0000
TZOFFSETTO:+0100
TZNAME:BST
DTSTART:20240331T010000
END:DAYLIGHT
BEGIN:STANDARD
TZOFFSETFROM:+0100
TZOFFSETTO:+0000
TZNAME:GMT
DTSTART:20241027T010000
END:STANDARD
BEGIN:DAYLIGHT
TZOFFSETFROM:+0000
TZOFFSETTO:+0100
TZNAME:BST
DTSTART:20250330T010000
END:DAYLIGHT
BEGIN:STANDARD
TZOFFSETFROM:+0100
TZOFFSETTO:+0000
TZNAME:GMT
DTSTART:20251026T010000
END:STANDARD
END:VTIMEZONE
BEGIN:VEVENT
DTSTART;TZID=Europe/London:20241007T170000
DTEND;TZID=Europe/London:20241007T180000
DTSTAMP:20260423T213627
CREATED:20240721T113506Z
LAST-MODIFIED:20240721T114451Z
UID:10000059-1728320400-1728324000@astrolodge.co.uk
SUMMARY:Week 3 - The Zodiac Signs (Part 1)
DESCRIPTION:Learn about the 12 zodiac signs\, their elements (Fire\, Earth\, Air\, Water)\, and modalities (Cardinal\, Fixed\, Mutable). \n\n\n\nThe third class will include a detailed discussion on the characteristics\, strengths\, and weaknesses of each zodiac sign and provide an understanding of how elements and modalities influence personality traits.
URL:https://astrolodge.co.uk/event/week-3-the-zodiac-signs-part-1/
CATEGORIES:Free Astrology Classes
ATTACH;FMTTYPE=image/jpeg:https://astrolodge.co.uk/wp-content/uploads/2024/07/IMG_1719-ilKVjr.tmp_.jpg
LOCATION:https://zoom.us/j/97908413245
END:VEVENT
BEGIN:VEVENT
DTSTART;TZID=Europe/London:20241014T170000
DTEND;TZID=Europe/London:20241014T180000
DTSTAMP:20260423T213627
CREATED:20240721T113826Z
LAST-MODIFIED:20240721T114536Z
UID:10000060-1728925200-1728928800@astrolodge.co.uk
SUMMARY:Week 4 - The Zodiac Signs (Part 2)
DESCRIPTION:Learn about the 12 zodiac signs\, their elements (Fire\, Earth\, Air\, Water)\, and modalities (Cardinal\, Fixed\, Mutable). \n\n\n\nThe fourth class will continue the discussion from the previous week on the characteristics\, strengths\, and weaknesses of each zodiac sign and provide an understanding of how elements and modalities influence personality traits.
URL:https://astrolodge.co.uk/event/week-4-the-zodiac-signs-part-2/
CATEGORIES:Free Astrology Classes
ATTACH;FMTTYPE=image/jpeg:https://astrolodge.co.uk/wp-content/uploads/2024/07/IMG_1719-ilKVjr.tmp_.jpg
LOCATION:https://zoom.us/j/96029526444
END:VEVENT
BEGIN:VEVENT
DTSTART;TZID=Europe/London:20241021T170000
DTEND;TZID=Europe/London:20241021T180000
DTSTAMP:20260423T213627
CREATED:20240721T114052Z
LAST-MODIFIED:20240721T114054Z
UID:10000061-1729530000-1729533600@astrolodge.co.uk
SUMMARY:Week 5 - The Houses
DESCRIPTION:Learn about the twelve astrological houses and their significance. \n\n\n\nThe fifth class will introduce the meaning of houses\, what areas of life they govern\, and how planets and signs within houses influence an individual’s life.
URL:https://astrolodge.co.uk/event/week-5-the-houses/
CATEGORIES:Free Astrology Classes
ATTACH;FMTTYPE=image/png:https://astrolodge.co.uk/wp-content/uploads/2024/07/memphis-style-conceptual-interior-room-2023-11-27-04-50-17-utc-1-1-NJtRRO.tmp_.png
LOCATION:https://zoom.us/j/93894351373
END:VEVENT
END:VCALENDAR