BEGIN:VCALENDAR
VERSION:2.0
PRODID:-//Astrological Lodge of London - ECPv6.15.16//NONSGML v1.0//EN
CALSCALE:GREGORIAN
METHOD:PUBLISH
X-ORIGINAL-URL:https://astrolodge.co.uk
X-WR-CALDESC:Events for Astrological Lodge of London
REFRESH-INTERVAL;VALUE=DURATION:PT1H
X-Robots-Tag:noindex
X-PUBLISHED-TTL:PT1H
BEGIN:VTIMEZONE
TZID:Europe/London
BEGIN:DAYLIGHT
TZOFFSETFROM:+0000
TZOFFSETTO:+0100
TZNAME:BST
DTSTART:20230326T010000
END:DAYLIGHT
BEGIN:STANDARD
TZOFFSETFROM:+0100
TZOFFSETTO:+0000
TZNAME:GMT
DTSTART:20231029T010000
END:STANDARD
BEGIN:DAYLIGHT
TZOFFSETFROM:+0000
TZOFFSETTO:+0100
TZNAME:BST
DTSTART:20240331T010000
END:DAYLIGHT
BEGIN:STANDARD
TZOFFSETFROM:+0100
TZOFFSETTO:+0000
TZNAME:GMT
DTSTART:20241027T010000
END:STANDARD
BEGIN:DAYLIGHT
TZOFFSETFROM:+0000
TZOFFSETTO:+0100
TZNAME:BST
DTSTART:20250330T010000
END:DAYLIGHT
BEGIN:STANDARD
TZOFFSETFROM:+0100
TZOFFSETTO:+0000
TZNAME:GMT
DTSTART:20251026T010000
END:STANDARD
END:VTIMEZONE
BEGIN:VEVENT
DTSTART;TZID=Europe/London:20240916T170000
DTEND;TZID=Europe/London:20240916T180000
DTSTAMP:20260423T225133
CREATED:20240721T113041Z
LAST-MODIFIED:20240721T114356Z
UID:10000062-1726506000-1726509600@astrolodge.co.uk
SUMMARY:Week 1 - The Planets (Part 1)
DESCRIPTION:Explore the meanings of the Sun\, Moon\, and planets (Mercury\, Venus\, Mars\, Jupiter\, Saturn\, Uranus\, Neptune\, Pluto) in astrology. \n\n\n\nThe first class in this series will discuss the significance of each planet\, its symbolism\, and the influence this has on an individual’s personality and life events.
URL:https://astrolodge.co.uk/event/week-1-the-planets-part-1/
LOCATION:https://astrolodge.co.uk/event/week-1-the-planets-part-1/
CATEGORIES:Free Astrology Classes
ATTACH;FMTTYPE=image/png:https://astrolodge.co.uk/wp-content/uploads/2024/07/floating-ball-with-golden-ring-and-orbital-sphere-2023-11-27-05-22-36-utc-1.png
END:VEVENT
BEGIN:VEVENT
DTSTART;TZID=Europe/London:20240923T170000
DTEND;TZID=Europe/London:20240923T180000
DTSTAMP:20260423T225133
CREATED:20240721T113245Z
LAST-MODIFIED:20240721T114300Z
UID:10000058-1727110800-1727114400@astrolodge.co.uk
SUMMARY:Week 2 - The Planets (Part 2)
DESCRIPTION:Continue to explore the meanings of the Sun\, Moon\, and planets (Mercury\, Venus\, Mars\, Jupiter\, Saturn\, Uranus\, Neptune\, Pluto) in astrology. \n\n\n\nThe second class will continue the previous week’s discussion regarding the significance of each planet\, its symbolism\, and the influence this has on an individual’s personality and life events.
URL:https://astrolodge.co.uk/event/week-2-the-planets-part-2/
CATEGORIES:Free Astrology Classes
ATTACH;FMTTYPE=image/png:https://astrolodge.co.uk/wp-content/uploads/2024/07/floating-ball-with-golden-ring-and-orbital-sphere-2023-11-27-05-22-36-utc-1-8Cg6if.tmp_.png
LOCATION:https://zoom.us/j/92273143734
END:VEVENT
END:VCALENDAR