BEGIN:VCALENDAR
VERSION:2.0
PRODID:-//Astrological Lodge of London - ECPv6.15.16//NONSGML v1.0//EN
CALSCALE:GREGORIAN
METHOD:PUBLISH
X-WR-CALNAME:Astrological Lodge of London
X-ORIGINAL-URL:https://astrolodge.co.uk
X-WR-CALDESC:Events for Astrological Lodge of London
REFRESH-INTERVAL;VALUE=DURATION:PT1H
X-Robots-Tag:noindex
X-PUBLISHED-TTL:PT1H
BEGIN:VTIMEZONE
TZID:Europe/London
BEGIN:DAYLIGHT
TZOFFSETFROM:+0000
TZOFFSETTO:+0100
TZNAME:BST
DTSTART:20250330T010000
END:DAYLIGHT
BEGIN:STANDARD
TZOFFSETFROM:+0100
TZOFFSETTO:+0000
TZNAME:GMT
DTSTART:20251026T010000
END:STANDARD
BEGIN:DAYLIGHT
TZOFFSETFROM:+0000
TZOFFSETTO:+0100
TZNAME:BST
DTSTART:20260329T010000
END:DAYLIGHT
BEGIN:STANDARD
TZOFFSETFROM:+0100
TZOFFSETTO:+0000
TZNAME:GMT
DTSTART:20261025T010000
END:STANDARD
BEGIN:DAYLIGHT
TZOFFSETFROM:+0000
TZOFFSETTO:+0100
TZNAME:BST
DTSTART:20270328T010000
END:DAYLIGHT
BEGIN:STANDARD
TZOFFSETFROM:+0100
TZOFFSETTO:+0000
TZNAME:GMT
DTSTART:20271031T010000
END:STANDARD
END:VTIMEZONE
BEGIN:VEVENT
DTSTART;TZID=Europe/London:20260808T103000
DTEND;TZID=Europe/London:20260808T123000
DTSTAMP:20260420T101733
CREATED:20260222T125026Z
LAST-MODIFIED:20260326T192400Z
UID:10000155-1786185000-1786192200@astrolodge.co.uk
SUMMARY:Karmic Configurations - Zsuzsanna Griga
DESCRIPTION:19:00  Karmic Configurations : Zsuzsanna Griga \n\n\n\nAspects may create geometric pattern in a birth chart\, and some of these configurations indicate important themes as they carry deep karmic issues\, which are quite hard to resolve. But we learn a great deal trying. \n\n\n\n\n\n\n\n\n\nZsuzsanna Griga Zsuzsanna Griga has been a professional karmic astrologer for 35 years. She established Clean Brook College of Parapsychology and Alternative Healing in 2002\, where she teaches Karmic Astrology\, Tarot\, and Psychogenetics.
URL:https://astrolodge.co.uk/event/karmic-configurations-zsuzsanna-griga/
CATEGORIES:Monday Seminars,Saturday Lectures
ATTACH;FMTTYPE=image/png:https://astrolodge.co.uk/wp-content/uploads/2026/02/Untitled-2026-02-22T124443.520.png
LOCATION:https://astrolodge.co.uk/event/karmic-configurations-zsuzsanna-griga/
END:VEVENT
END:VCALENDAR