BEGIN:VCALENDAR
VERSION:2.0
PRODID:-//Astrological Lodge of London - ECPv6.15.16//NONSGML v1.0//EN
CALSCALE:GREGORIAN
METHOD:PUBLISH
X-ORIGINAL-URL:https://astrolodge.co.uk
X-WR-CALDESC:Events for Astrological Lodge of London
REFRESH-INTERVAL;VALUE=DURATION:PT1H
X-Robots-Tag:noindex
X-PUBLISHED-TTL:PT1H
BEGIN:VTIMEZONE
TZID:Europe/London
BEGIN:DAYLIGHT
TZOFFSETFROM:+0000
TZOFFSETTO:+0100
TZNAME:BST
DTSTART:20250330T010000
END:DAYLIGHT
BEGIN:STANDARD
TZOFFSETFROM:+0100
TZOFFSETTO:+0000
TZNAME:GMT
DTSTART:20251026T010000
END:STANDARD
BEGIN:DAYLIGHT
TZOFFSETFROM:+0000
TZOFFSETTO:+0100
TZNAME:BST
DTSTART:20260329T010000
END:DAYLIGHT
BEGIN:STANDARD
TZOFFSETFROM:+0100
TZOFFSETTO:+0000
TZNAME:GMT
DTSTART:20261025T010000
END:STANDARD
BEGIN:DAYLIGHT
TZOFFSETFROM:+0000
TZOFFSETTO:+0100
TZNAME:BST
DTSTART:20270328T010000
END:DAYLIGHT
BEGIN:STANDARD
TZOFFSETFROM:+0100
TZOFFSETTO:+0000
TZNAME:GMT
DTSTART:20271031T010000
END:STANDARD
END:VTIMEZONE
BEGIN:VEVENT
DTSTART;TZID=Europe/London:20260509T103000
DTEND;TZID=Europe/London:20260509T123000
DTSTAMP:20260419T225030
CREATED:20260222T113938Z
LAST-MODIFIED:20260326T192246Z
UID:10000154-1778322600-1778329800@astrolodge.co.uk
SUMMARY:The Soul (Esoteric) Planetary Rulerships - Wanda Sellar
DESCRIPTION:19:00  The Soul (Esoteric) Planetary Rulerships: Wanda Sellar \n\n\n\nThe soul rulers of the zodiac signs\, as introduced by Alice Bailey\, will be examined and compared to the personality (conventional) rulers. Discussion will focus on the difference in their function\, with example charts illustrating this theoretical model of spirituality. \n\n\n\n\n\n\n\n\n\nWandaWanda Sellar is the president of the Astrological Lodge of London\, as well as its chief programmer and co-editor of the Astrology Quarterly. She has spent many years studying the works of Alice Bailey and is a student of the Arcane School. She has written four books on astrology.
URL:https://astrolodge.co.uk/event/the-soul-esoteric-planetary-rulerships-wanda-sellar/
CATEGORIES:Monday Seminars,Saturday Lectures
ATTACH;FMTTYPE=image/png:https://astrolodge.co.uk/wp-content/uploads/2026/01/Untitled-2026-01-02T232418.942.png
LOCATION:https://astrolodge.co.uk/event/the-soul-esoteric-planetary-rulerships-wanda-sellar/
END:VEVENT
END:VCALENDAR