BEGIN:VCALENDAR
VERSION:2.0
PRODID:-//Astrological Lodge of London - ECPv6.15.16//NONSGML v1.0//EN
CALSCALE:GREGORIAN
METHOD:PUBLISH
X-WR-CALNAME:Astrological Lodge of London
X-ORIGINAL-URL:https://astrolodge.co.uk
X-WR-CALDESC:Events for Astrological Lodge of London
REFRESH-INTERVAL;VALUE=DURATION:PT1H
X-Robots-Tag:noindex
X-PUBLISHED-TTL:PT1H
BEGIN:VTIMEZONE
TZID:Europe/London
BEGIN:DAYLIGHT
TZOFFSETFROM:+0000
TZOFFSETTO:+0100
TZNAME:BST
DTSTART:20240331T010000
END:DAYLIGHT
BEGIN:STANDARD
TZOFFSETFROM:+0100
TZOFFSETTO:+0000
TZNAME:GMT
DTSTART:20241027T010000
END:STANDARD
BEGIN:DAYLIGHT
TZOFFSETFROM:+0000
TZOFFSETTO:+0100
TZNAME:BST
DTSTART:20250330T010000
END:DAYLIGHT
BEGIN:STANDARD
TZOFFSETFROM:+0100
TZOFFSETTO:+0000
TZNAME:GMT
DTSTART:20251026T010000
END:STANDARD
BEGIN:DAYLIGHT
TZOFFSETFROM:+0000
TZOFFSETTO:+0100
TZNAME:BST
DTSTART:20260329T010000
END:DAYLIGHT
BEGIN:STANDARD
TZOFFSETFROM:+0100
TZOFFSETTO:+0000
TZNAME:GMT
DTSTART:20261025T010000
END:STANDARD
END:VTIMEZONE
BEGIN:VEVENT
DTSTART;TZID=Europe/London:20251117T170000
DTEND;TZID=Europe/London:20251117T180000
DTSTAMP:20260420T195800
CREATED:20250828T205542Z
LAST-MODIFIED:20250828T205546Z
UID:10000131-1763398800-1763402400@astrolodge.co.uk
SUMMARY:Week 6 - The Houses (Part 2)
DESCRIPTION:Continue to learn about the twelve astrological houses and their significance. \n\n\n\nThe sixth class will continue the meaning of the houses\, what areas of life they govern\, and how planets and signs within houses influence an individual’s life.
URL:https://astrolodge.co.uk/event/week-6-the-houses-part-2-3/
CATEGORIES:Free Astrology Classes
ATTACH;FMTTYPE=image/png:https://astrolodge.co.uk/wp-content/uploads/2024/07/memphis-style-conceptual-interior-room-2023-11-27-04-50-17-utc-1-1-NJtRRO.tmp_.png
LOCATION:https://zoom.us/j/94105242765
END:VEVENT
BEGIN:VEVENT
DTSTART;TZID=Europe/London:20251117T190000
DTEND;TZID=Europe/London:20251117T213000
DTSTAMP:20260420T195800
CREATED:20250811T143924Z
LAST-MODIFIED:20251018T162050Z
UID:10000123-1763406000-1763415000@astrolodge.co.uk
SUMMARY:The Hidden Power of the Decans - Israel Ajose
DESCRIPTION:19:00  The Hidden Power of the Decans \n\n\n\nThe unveiling of the forgotten wisdom of the Decanates\, the 36 ten-degree divisions of the zodiac that weave depth\, nuance\, and hidden power into every sign.  \n\n\n\nOriginating in ancient Egypt and refined through Babylonian\, Hellenistic and Medieval astrology\, the decans reveal the subtle variations within each zodiac sign and the secret tones behind planetary expression.Discover how the decans serve as the micro-architecture of the zodiac\, bridging astronomy\, symbolism\, and psychology. Learn how traditional astrologers used them for fine-tuning natal delineations\, evaluating planetary dignity\, and even forecasting sub-themes in predictive work.This presentation will explore the three classical decan systems — the Triplicity\, Zodiacal\, and Chaldean orders — and demonstrate how each infuses the chart with unique layers of meaning.  \n\n\n\n20:30 Chart Discussion \n\n\n\n\n\n\n\n\n\nIsrael AjoseIsrael Ajose D.Psych.Astrol is a student and teacher of astrology and tarot. He studied and completed full honours in psychological astrology at the CPA in London with Liz Greene in 2009. He has undertaken further studies in traditional astrology and received diplomas under the teachings of the likes of Robert Zoller\, Robert Schmidt\, Robert Hand\, Ben Dykes\, Chris Brennan and Demetra George. He combines traditional\, mediaeval\, and psychological methods. He is currently a full-time practicing consultant & teacher of astrology\, tarot for more than 17 years\, alongside various philosophical and esoteric disciplines. He was the former President of the astrological lodge of London. Much of his studies and practices also include cosmology\, mythology\, occult sciences\, Kabbalah\, shamanism\, and divination.
URL:https://astrolodge.co.uk/event/the-astrological-sappho-heather-mcvey/
CATEGORIES:Monday Seminars
ATTACH;FMTTYPE=image/png:https://astrolodge.co.uk/wp-content/uploads/2025/08/decans.png
LOCATION:https://astrolodge.co.uk/event/the-astrological-sappho-heather-mcvey/
END:VEVENT
END:VCALENDAR