BEGIN:VCALENDAR
VERSION:2.0
PRODID:-//Astrological Lodge of London - ECPv6.15.16//NONSGML v1.0//EN
CALSCALE:GREGORIAN
METHOD:PUBLISH
X-WR-CALNAME:Astrological Lodge of London
X-ORIGINAL-URL:https://astrolodge.co.uk
X-WR-CALDESC:Events for Astrological Lodge of London
REFRESH-INTERVAL;VALUE=DURATION:PT1H
X-Robots-Tag:noindex
X-PUBLISHED-TTL:PT1H
BEGIN:VTIMEZONE
TZID:Europe/London
BEGIN:DAYLIGHT
TZOFFSETFROM:+0000
TZOFFSETTO:+0100
TZNAME:BST
DTSTART:20240331T010000
END:DAYLIGHT
BEGIN:STANDARD
TZOFFSETFROM:+0100
TZOFFSETTO:+0000
TZNAME:GMT
DTSTART:20241027T010000
END:STANDARD
BEGIN:DAYLIGHT
TZOFFSETFROM:+0000
TZOFFSETTO:+0100
TZNAME:BST
DTSTART:20250330T010000
END:DAYLIGHT
BEGIN:STANDARD
TZOFFSETFROM:+0100
TZOFFSETTO:+0000
TZNAME:GMT
DTSTART:20251026T010000
END:STANDARD
BEGIN:DAYLIGHT
TZOFFSETFROM:+0000
TZOFFSETTO:+0100
TZNAME:BST
DTSTART:20260329T010000
END:DAYLIGHT
BEGIN:STANDARD
TZOFFSETFROM:+0100
TZOFFSETTO:+0000
TZNAME:GMT
DTSTART:20261025T010000
END:STANDARD
END:VTIMEZONE
BEGIN:VEVENT
DTSTART;TZID=Europe/London:20251110T180000
DTEND;TZID=Europe/London:20251110T200000
DTSTAMP:20260420T183954
CREATED:20250809T000626Z
LAST-MODIFIED:20250809T001419Z
UID:10000121-1762797600-1762804800@astrolodge.co.uk
SUMMARY:The Cosmic Hunt & Other Star Lore - Gill Dorren
DESCRIPTION:18:00 Chart Discussion \n\n\n\n18:45 Tea Break \n\n\n\n19:15  The Cosmic Hunt & Other Star Lore \n\n\n\nThe Cosmic Hunt is one of the oldest myths\, perhaps dating back to 40000 years ago.  I will tell you this myth and other star lore tales and discuss\, by using these\, early man used the stars for navigation and predicting.  Perhaps pointing to an origin of our art.  Be prepared to be transported back in time.  \n\n\n\n\n\n\n\n\n\n\n\nGill DorrenGill has been studying astrology and Cosmology for many years and as an Aquarian\, with Scorpio rising\,  is actually looking forward to the dawning of a new age and is intrigued with so many great people trying to predict the end of the World as we know it. Gill is Treasurer of the Lodge and has been studying and practising Astrology for 30 years. She has particular interests in Cosmology (past and present) and is keen to fuse astrology with current cosmological theory. And has given many lectures on this at the Lodge. She also loves the history of the 17th century and helped organise the Astrologers Feast to celebrate the Lodges’ centenary at the Painters Hall\, the original venue from the 17th century. She is also co-editor of the Astrology Quarterly.
URL:https://astrolodge.co.uk/event/the-cosmic-hunt-other-star-lore-gill-dorren/
CATEGORIES:Monday Seminars
ATTACH;FMTTYPE=image/png:https://astrolodge.co.uk/wp-content/uploads/2025/08/pleiades-star-cluster-2024-09-06-02-27-30-utc-1.png
LOCATION:https://astrolodge.co.uk/event/the-cosmic-hunt-other-star-lore-gill-dorren/
END:VEVENT
END:VCALENDAR