BEGIN:VCALENDAR
VERSION:2.0
PRODID:-//Astrological Lodge of London - ECPv6.15.16//NONSGML v1.0//EN
CALSCALE:GREGORIAN
METHOD:PUBLISH
X-WR-CALNAME:Astrological Lodge of London
X-ORIGINAL-URL:https://astrolodge.co.uk
X-WR-CALDESC:Events for Astrological Lodge of London
REFRESH-INTERVAL;VALUE=DURATION:PT1H
X-Robots-Tag:noindex
X-PUBLISHED-TTL:PT1H
BEGIN:VTIMEZONE
TZID:Europe/London
BEGIN:DAYLIGHT
TZOFFSETFROM:+0000
TZOFFSETTO:+0100
TZNAME:BST
DTSTART:20240331T010000
END:DAYLIGHT
BEGIN:STANDARD
TZOFFSETFROM:+0100
TZOFFSETTO:+0000
TZNAME:GMT
DTSTART:20241027T010000
END:STANDARD
BEGIN:DAYLIGHT
TZOFFSETFROM:+0000
TZOFFSETTO:+0100
TZNAME:BST
DTSTART:20250330T010000
END:DAYLIGHT
BEGIN:STANDARD
TZOFFSETFROM:+0100
TZOFFSETTO:+0000
TZNAME:GMT
DTSTART:20251026T010000
END:STANDARD
BEGIN:DAYLIGHT
TZOFFSETFROM:+0000
TZOFFSETTO:+0100
TZNAME:BST
DTSTART:20260329T010000
END:DAYLIGHT
BEGIN:STANDARD
TZOFFSETFROM:+0100
TZOFFSETTO:+0000
TZNAME:GMT
DTSTART:20261025T010000
END:STANDARD
END:VTIMEZONE
BEGIN:VEVENT
DTSTART;TZID=Europe/London:20251013T170000
DTEND;TZID=Europe/London:20251013T180000
DTSTAMP:20260420T195759
CREATED:20250828T205104Z
LAST-MODIFIED:20250828T205109Z
UID:10000128-1760374800-1760378400@astrolodge.co.uk
SUMMARY:Week 3 - The Zodiac Signs (Part 1)
DESCRIPTION:Learn about the 12 zodiac signs\, their elements (Fire\, Earth\, Air\, Water)\, and modalities (Cardinal\, Fixed\, Mutable). \n\n\n\nThe third class will include a detailed discussion on the characteristics\, strengths\, and weaknesses of each zodiac sign and provide an understanding of how elements and modalities influence personality traits.
URL:https://astrolodge.co.uk/event/week-3-the-zodiac-signs-part-1-4/
CATEGORIES:Free Astrology Classes
ATTACH;FMTTYPE=image/jpeg:https://astrolodge.co.uk/wp-content/uploads/2024/07/IMG_1719-ilKVjr.tmp_.jpg
LOCATION:https://zoom.us/j/98874744754
END:VEVENT
BEGIN:VEVENT
DTSTART;TZID=Europe/London:20251013T190000
DTEND;TZID=Europe/London:20251013T213000
DTSTAMP:20260420T195759
CREATED:20250719T115608Z
LAST-MODIFIED:20250720T100159Z
UID:10000118-1760382000-1760391000@astrolodge.co.uk
SUMMARY:Looking at Stratifications and Tribes of Wealth - Naomi Martin
DESCRIPTION:19:00  Looking at Stratifications and articulating differing Tribes of Wealth in a birth chart – Naomi Martin \n\n\n\nFinancial matters are one of the top questions an astrologer will examine for any birth chart. But wealth itself has gradations and varieties that the astrologer must be able to distinguish. We will examine several birth charts to explore this topic. \n\n\n\n20:30 Chart Discussion \n\n\n\n\n\n\n\n\n\nNaomi MartinNaomi has studied and practices both Western tropical astrology and Jyotish and is a Pandita from the lineage of Pandit Sanjay Rath. She researches several branches of natal\, mundane\, and historical astrology. She writes on substack.
URL:https://astrolodge.co.uk/event/looking-at-stratifications-and-tribes-of-wealth-naomi-martin/
CATEGORIES:Monday Seminars
ATTACH;FMTTYPE=image/jpeg:https://astrolodge.co.uk/wp-content/uploads/2025/07/IMG_1967.jpeg
LOCATION:https://astrolodge.co.uk/event/looking-at-stratifications-and-tribes-of-wealth-naomi-martin/
END:VEVENT
END:VCALENDAR