BEGIN:VCALENDAR
VERSION:2.0
PRODID:-//Astrological Lodge of London - ECPv6.15.16//NONSGML v1.0//EN
CALSCALE:GREGORIAN
METHOD:PUBLISH
X-ORIGINAL-URL:https://astrolodge.co.uk
X-WR-CALDESC:Events for Astrological Lodge of London
REFRESH-INTERVAL;VALUE=DURATION:PT1H
X-Robots-Tag:noindex
X-PUBLISHED-TTL:PT1H
BEGIN:VTIMEZONE
TZID:Europe/London
BEGIN:DAYLIGHT
TZOFFSETFROM:+0000
TZOFFSETTO:+0100
TZNAME:BST
DTSTART:20240331T010000
END:DAYLIGHT
BEGIN:STANDARD
TZOFFSETFROM:+0100
TZOFFSETTO:+0000
TZNAME:GMT
DTSTART:20241027T010000
END:STANDARD
BEGIN:DAYLIGHT
TZOFFSETFROM:+0000
TZOFFSETTO:+0100
TZNAME:BST
DTSTART:20250330T010000
END:DAYLIGHT
BEGIN:STANDARD
TZOFFSETFROM:+0100
TZOFFSETTO:+0000
TZNAME:GMT
DTSTART:20251026T010000
END:STANDARD
BEGIN:DAYLIGHT
TZOFFSETFROM:+0000
TZOFFSETTO:+0100
TZNAME:BST
DTSTART:20260329T010000
END:DAYLIGHT
BEGIN:STANDARD
TZOFFSETFROM:+0100
TZOFFSETTO:+0000
TZNAME:GMT
DTSTART:20261025T010000
END:STANDARD
END:VTIMEZONE
BEGIN:VEVENT
DTSTART;TZID=Europe/London:20251006T170000
DTEND;TZID=Europe/London:20251006T180000
DTSTAMP:20260420T212719
CREATED:20250828T204926Z
LAST-MODIFIED:20250828T204930Z
UID:10000127-1759770000-1759773600@astrolodge.co.uk
SUMMARY:Week 2 - The Planets (Part 2)
DESCRIPTION:Continue to explore the meanings of the Sun\, Moon\, and planets (Mercury\, Venus\, Mars\, Jupiter\, Saturn\, Uranus\, Neptune\, Pluto) in astrology. \n\n\n\nThe second class will continue the previous week’s discussion regarding the significance of each planet\, its symbolism\, and the influence this has on an individual’s personality and life events.
URL:https://astrolodge.co.uk/event/week-2-the-planets-part-2-4/
CATEGORIES:Free Astrology Classes
ATTACH;FMTTYPE=image/png:https://astrolodge.co.uk/wp-content/uploads/2024/07/floating-ball-with-golden-ring-and-orbital-sphere-2023-11-27-05-22-36-utc-1-8Cg6if.tmp_.png
LOCATION:https://zoom.us/j/91529168056
END:VEVENT
BEGIN:VEVENT
DTSTART;TZID=Europe/London:20251006T190000
DTEND;TZID=Europe/London:20251006T213000
DTSTAMP:20260420T212719
CREATED:20250719T113049Z
LAST-MODIFIED:20250719T113052Z
UID:10000117-1759777200-1759786200@astrolodge.co.uk
SUMMARY:Ivan the Terrible and his Wives - Jadranka Coic
DESCRIPTION:19:00  Ivan the Terrible and his Wives – Jadranka Coic \n\n\n\nHenry VIII and his wives are often discussed\, but his contemporary\, Ivan the Terrible\, had eight of them.  Join Jadranka as she looks at the life and death of one of the most evil tsars and what happened to his wives. \n\n\n\n20:30 Chart Discussion \n\n\n\n\n\n\n\n\n\nJadranka CoicJadranka Coic spends time either practising astrology or growing vegetables on her allotment in accordance with Moon cycles.  She is a perpetual student who started to study astrology more than fifteen years ago\, and now is doing the QHP Diploma course. She is the Treasurer of the Astrological Association and Beginners’ Class Tutor for the Astrological Lodge of London.  
URL:https://astrolodge.co.uk/event/ivan-the-terrible-and-his-wives-jadranka-coic/
CATEGORIES:Monday Seminars
ATTACH;FMTTYPE=image/jpeg:https://astrolodge.co.uk/wp-content/uploads/2025/07/IMG_1966.jpeg
LOCATION:https://astrolodge.co.uk/event/ivan-the-terrible-and-his-wives-jadranka-coic/
END:VEVENT
END:VCALENDAR