BEGIN:VCALENDAR
VERSION:2.0
PRODID:-//Astrological Lodge of London - ECPv6.15.16//NONSGML v1.0//EN
CALSCALE:GREGORIAN
METHOD:PUBLISH
X-WR-CALNAME:Astrological Lodge of London
X-ORIGINAL-URL:https://astrolodge.co.uk
X-WR-CALDESC:Events for Astrological Lodge of London
REFRESH-INTERVAL;VALUE=DURATION:PT1H
X-Robots-Tag:noindex
X-PUBLISHED-TTL:PT1H
BEGIN:VTIMEZONE
TZID:Europe/London
BEGIN:DAYLIGHT
TZOFFSETFROM:+0000
TZOFFSETTO:+0100
TZNAME:BST
DTSTART:20240331T010000
END:DAYLIGHT
BEGIN:STANDARD
TZOFFSETFROM:+0100
TZOFFSETTO:+0000
TZNAME:GMT
DTSTART:20241027T010000
END:STANDARD
BEGIN:DAYLIGHT
TZOFFSETFROM:+0000
TZOFFSETTO:+0100
TZNAME:BST
DTSTART:20250330T010000
END:DAYLIGHT
BEGIN:STANDARD
TZOFFSETFROM:+0100
TZOFFSETTO:+0000
TZNAME:GMT
DTSTART:20251026T010000
END:STANDARD
BEGIN:DAYLIGHT
TZOFFSETFROM:+0000
TZOFFSETTO:+0100
TZNAME:BST
DTSTART:20260329T010000
END:DAYLIGHT
BEGIN:STANDARD
TZOFFSETFROM:+0100
TZOFFSETTO:+0000
TZNAME:GMT
DTSTART:20261025T010000
END:STANDARD
END:VTIMEZONE
BEGIN:VEVENT
DTSTART;TZID=Europe/London:20250929T180000
DTEND;TZID=Europe/London:20250929T200000
DTSTAMP:20260420T195752
CREATED:20250719T111122Z
LAST-MODIFIED:20250719T111541Z
UID:10000114-1759168800-1759176000@astrolodge.co.uk
SUMMARY:A Right Royal Romance - Wanda Sellar
DESCRIPTION:18:00 Chart Discussion \n\n\n\n18:45 Tea Break \n\n\n\n19:00 A Right Royal Romance \n\n\n\n‘The course of true love never did run smooth’\, so said Shakespeare in his play A Midsummer Night’s Dream.  Love is always tested\, and those royal romances we examine tonight\, certainly had their difficulties to overcome. Some succeeded in their romantic plight\, and some did not. We shall examine the charts of Prince Charles/Camilla/Princess Diana\, Queen Elizabeth/Prince Philip\, Princess Margaret/Tony Armstrong Jones/Peter Townsend\, Edward VIII/Wallis Simpson. And in the process\, revisit some rules of synastry. \n\n\n\n\n\n\n\n\n\n\n\nWanda SellarWanda is the current President of the Astrological Lodge. She is also the current programme organiser\, and co-editor of the Astrology Quarterly. She has taught in Europe and Japan\, and has several books on astrology to her credit. These include the most recent ‘Chart Shapes: the code to interpretation.’ Wanda holds a Diploma from the Mayo School of Astrology and a Q.H.P. Diploma. She is also the editor of the AA’s Astrology & Medicine Newsletter
URL:https://astrolodge.co.uk/event/a-right-royal-romance-wanda-sellar/
CATEGORIES:Monday Seminars
ATTACH;FMTTYPE=image/jpeg:https://astrolodge.co.uk/wp-content/uploads/2025/07/IMG_1965.jpeg
LOCATION:https://astrolodge.co.uk/event/a-right-royal-romance-wanda-sellar/
END:VEVENT
END:VCALENDAR