BEGIN:VCALENDAR
VERSION:2.0
PRODID:-//Astrological Lodge of London - ECPv6.15.16//NONSGML v1.0//EN
CALSCALE:GREGORIAN
METHOD:PUBLISH
X-WR-CALNAME:Astrological Lodge of London
X-ORIGINAL-URL:https://astrolodge.co.uk
X-WR-CALDESC:Events for Astrological Lodge of London
REFRESH-INTERVAL;VALUE=DURATION:PT1H
X-Robots-Tag:noindex
X-PUBLISHED-TTL:PT1H
BEGIN:VTIMEZONE
TZID:Europe/London
BEGIN:DAYLIGHT
TZOFFSETFROM:+0000
TZOFFSETTO:+0100
TZNAME:BST
DTSTART:20240331T010000
END:DAYLIGHT
BEGIN:STANDARD
TZOFFSETFROM:+0100
TZOFFSETTO:+0000
TZNAME:GMT
DTSTART:20241027T010000
END:STANDARD
BEGIN:DAYLIGHT
TZOFFSETFROM:+0000
TZOFFSETTO:+0100
TZNAME:BST
DTSTART:20250330T010000
END:DAYLIGHT
BEGIN:STANDARD
TZOFFSETFROM:+0100
TZOFFSETTO:+0000
TZNAME:GMT
DTSTART:20251026T010000
END:STANDARD
BEGIN:DAYLIGHT
TZOFFSETFROM:+0000
TZOFFSETTO:+0100
TZNAME:BST
DTSTART:20260329T010000
END:DAYLIGHT
BEGIN:STANDARD
TZOFFSETFROM:+0100
TZOFFSETTO:+0000
TZNAME:GMT
DTSTART:20261025T010000
END:STANDARD
END:VTIMEZONE
BEGIN:VEVENT
DTSTART;TZID=Europe/London:20250217T170000
DTEND;TZID=Europe/London:20250217T180000
DTSTAMP:20260420T172532
CREATED:20241230T134043Z
LAST-MODIFIED:20241230T140445Z
UID:10000085-1739811600-1739815200@astrolodge.co.uk
SUMMARY:Week 3 - The Zodiac Signs (Part 1)
DESCRIPTION:Learn about the 12 zodiac signs\, their elements (Fire\, Earth\, Air\, Water)\, and modalities (Cardinal\, Fixed\, Mutable). \n\n\n\nThe third class will include a detailed discussion on the characteristics\, strengths\, and weaknesses of each zodiac sign and provide an understanding of how elements and modalities influence personality traits.
URL:https://astrolodge.co.uk/event/week-3-the-zodiac-signs-part-1-2/
CATEGORIES:Free Astrology Classes
ATTACH;FMTTYPE=image/jpeg:https://astrolodge.co.uk/wp-content/uploads/2024/07/IMG_1719-ilKVjr.tmp_.jpg
LOCATION:https://zoom.us/j/98219975608
END:VEVENT
BEGIN:VEVENT
DTSTART;TZID=Europe/London:20250217T190000
DTEND;TZID=Europe/London:20250217T213000
DTSTAMP:20260420T172532
CREATED:20241228T152244Z
LAST-MODIFIED:20241230T214537Z
UID:10000076-1739818800-1739827800@astrolodge.co.uk
SUMMARY:Family Portrait: Physical Description in Nativities - Morgan Le Gall
DESCRIPTION:19:15  Family Portrait: Physical Description in Nativities \n\n\n\nThis presentation will delve into planetary symbolism when applied to physical description. Morgan will introduce a streamlined approach to physical description in the natal chart based on the foundational work of William Lilly. The focus will be on identifying the dominant planetary influence on the native’s body and how its impact can go beyond physical description. Starting with the example from Lilly’s book Christian Astrology\, we will then look at a series of related nativities (same family). Additionally\, time allowing\, an example of the application of physical description in a horary chart will be briefly explored. \n\n\n\n20:15 Break \n\n\n\n20:30 Questions/Discussion/Chart Discussion \n\n\n\n\n\n\n\n\n\nMorgan Le GallMorgan Le Gall is a French astrologer\, educator and translator based in the USA. A lifetime student of astrology\, he has been practicing for over 10 years with an emphasis on traditional techniques. His primary love is horary\, and after studying this branch at the School of Traditional Astrology\, he is now one of the tutors for the horary course.
URL:https://astrolodge.co.uk/event/family-portrait-physical-description-in-nativities-morgan-le-gall/
CATEGORIES:Monday Seminars
ATTACH;FMTTYPE=image/jpeg:https://astrolodge.co.uk/wp-content/uploads/2024/12/IMG_1915.jpg
LOCATION:https://astrolodge.co.uk/event/family-portrait-physical-description-in-nativities-morgan-le-gall/
END:VEVENT
END:VCALENDAR