BEGIN:VCALENDAR
VERSION:2.0
PRODID:-//Astrological Lodge of London - ECPv6.15.16//NONSGML v1.0//EN
CALSCALE:GREGORIAN
METHOD:PUBLISH
X-ORIGINAL-URL:https://astrolodge.co.uk
X-WR-CALDESC:Events for Astrological Lodge of London
REFRESH-INTERVAL;VALUE=DURATION:PT1H
X-Robots-Tag:noindex
X-PUBLISHED-TTL:PT1H
BEGIN:VTIMEZONE
TZID:Europe/London
BEGIN:DAYLIGHT
TZOFFSETFROM:+0000
TZOFFSETTO:+0100
TZNAME:BST
DTSTART:20240331T010000
END:DAYLIGHT
BEGIN:STANDARD
TZOFFSETFROM:+0100
TZOFFSETTO:+0000
TZNAME:GMT
DTSTART:20241027T010000
END:STANDARD
BEGIN:DAYLIGHT
TZOFFSETFROM:+0000
TZOFFSETTO:+0100
TZNAME:BST
DTSTART:20250330T010000
END:DAYLIGHT
BEGIN:STANDARD
TZOFFSETFROM:+0100
TZOFFSETTO:+0000
TZNAME:GMT
DTSTART:20251026T010000
END:STANDARD
BEGIN:DAYLIGHT
TZOFFSETFROM:+0000
TZOFFSETTO:+0100
TZNAME:BST
DTSTART:20260329T010000
END:DAYLIGHT
BEGIN:STANDARD
TZOFFSETFROM:+0100
TZOFFSETTO:+0000
TZNAME:GMT
DTSTART:20261025T010000
END:STANDARD
END:VTIMEZONE
BEGIN:VEVENT
DTSTART;TZID=Europe/London:20250113T180000
DTEND;TZID=Europe/London:20250113T200000
DTSTAMP:20260420T010934
CREATED:20241228T151109Z
LAST-MODIFIED:20241230T213524Z
UID:10000075-1736791200-1736798400@astrolodge.co.uk
SUMMARY:Planetary indicators of ADHD in the Natal Chart - Anita Chakraburtty
DESCRIPTION:18:00 Chart Discussion \n\n\n\n18:45 Tea Break \n\n\n\n19:00  Planetary indicators of ADHD in the Natal Chart \n\n\n\nThe prevalence of ADHD in UK adults is around 3-4%. Many Celebrities are opening up to their ADHD diagnosis & the impact it has had on their lives. In this talk Anita Chakraborty will be looking at planetary indicators that may point out ADHD in Natal Charts.  \n\n\n\n\n\n\n\n\n\n\n\nAnita ChakraburttyAnita Chakraburtty has a Diploma in Medieval Astrology gained via study with the Astro Mundi School of Astrology in Adelaide\, Australia. Anita is a Member of the APAI & the Committee of the Astrological Lodge of London. Anita is a full-time Registered Naturopath (Herbalist/Nutritionist) with over 14 years clinical experience working with clients with arthritis\, thyroid issues\, anxiety & depression\, high blood pressure\, PCOS\, endometriosis\,  autoimmune diseases\, menopause and much more. Anita trained for 7 years in Sydney with Medicine Crow\, a Cherokee Chief & as a Shamanic Healer she runs Shamanic Mediation & Sound Healing Circles in Balham & Ealing every month.
URL:https://astrolodge.co.uk/event/planetary-indicators-of-adhd-in-the-natal-chart-anita-chakraburtty/
LOCATION:Steiner House\, 35 Park Road\, London\, NW1 6XT\, United Kingdom
CATEGORIES:Monday Seminars
ATTACH;FMTTYPE=image/jpeg:https://astrolodge.co.uk/wp-content/uploads/2024/12/IMG_1912-1.jpg
END:VEVENT
END:VCALENDAR